BEGIN:VCALENDAR
VERSION:2.0
CALSCALE:GREGORIAN
PRODID:-//Diputació de Barcelona//DibaCMS//EN
BEGIN:VEVENT
UID:1689
DTSTAMP:20260425T202840
DTSTART:20201207T000000
DTEND:20201207T000000
SUMMARY:Concurs: Il·lumina casa teva per Nadal
LOCATION:
METHOD:PUBLISH
X-WR-CALNAME:puigdalber@puigdalber.cat
X-WR-TIMEZONE:Europe/Madrid
DESCRIPTION:Il·lumina casa teva per Nadal

URI:https://www.puigdalber.cat/actualitat/agenda/concurs-illumina-casa-teva-per-nadal.html
CLASS:PUBLIC
END:VEVENT
END:VCALENDAR
