BEGIN:VCALENDAR
VERSION:2.0
CALSCALE:GREGORIAN
PRODID:-//Diputació de Barcelona//DibaCMS//EN
BEGIN:VEVENT
UID:1706
DTSTAMP:20260425T232822
DTSTART:20210219T160000
DTEND:20210219T180000
SUMMARY:Horari bibliobús febrer 2021
LOCATION:
METHOD:PUBLISH
X-WR-CALNAME:puigdalber@puigdalber.cat
X-WR-TIMEZONE:Europe/Madrid
DESCRIPTION:Es recomana la petició prèvia de documents via formulari "Connecta amb el bibliobús" (bibliobús Montau), mail, telèfon o whasapp.

URI:https://www.puigdalber.cat/actualitat/agenda/horari-bibliobus-febrer-2021.html
CLASS:PUBLIC
END:VEVENT
END:VCALENDAR
