BEGIN:VCALENDAR
VERSION:2.0
CALSCALE:GREGORIAN
PRODID:-//Diputació de Barcelona//DibaCMS//EN
BEGIN:VEVENT
UID:1717
DTSTAMP:20260426T012210
DTSTART:20210222T090000
DTEND:20210228T000000
SUMMARY:Activitats per canalla - Febrer 2021
LOCATION:Avinguda Catalunya, 8 08797 Puigdàlber
METHOD:PUBLISH
X-WR-CALNAME:puigdalber@puigdalber.cat
X-WR-TIMEZONE:Europe/Madrid
DESCRIPTION:Dimarts i dijous, de 18 a 19 h, una activitat diferent.


	23 de febrer: Collage amb palletes
	25 de febrer: Dibuix màgic


URI:https://www.puigdalber.cat/actualitat/agenda/activitats-per-canalla-febrer-2021.html
CLASS:PUBLIC
END:VEVENT
END:VCALENDAR
