BEGIN:VCALENDAR
VERSION:2.0
CALSCALE:GREGORIAN
PRODID:-//Diputació de Barcelona//DibaCMS//EN
BEGIN:VEVENT
UID:1722
DTSTAMP:20260426T011129
DTSTART:20210325T200000
DTEND:20210325T220000
SUMMARY:Reunió informativa projectes
LOCATION:Sala Polivalent 
METHOD:PUBLISH
X-WR-CALNAME:puigdalber@puigdalber.cat
X-WR-TIMEZONE:Europe/Madrid
DESCRIPTION:Reunió informativa projectes.

URI:https://www.puigdalber.cat/actualitat/agenda/reunio-informativa-projectes.html
CLASS:PUBLIC
END:VEVENT
END:VCALENDAR
