BEGIN:VCALENDAR
VERSION:2.0
CALSCALE:GREGORIAN
PRODID:-//Diputació de Barcelona//DibaCMS//EN
BEGIN:VEVENT
UID:1730
DTSTAMP:20260425T233733
DTSTART:20210409T120000
DTEND:20210424T000000
SUMMARY:Primera Panera Solidària de Sant Jordi
LOCATION:
METHOD:PUBLISH
X-WR-CALNAME:puigdalber@puigdalber.cat
X-WR-TIMEZONE:Europe/Madrid
DESCRIPTION:Sorteig de la PRIMERA PANERA SOLIDÀRIA DE SANT JORDI (organitzat per l'AMPA de l'Escola Virolai).

URI:https://www.puigdalber.cat/actualitat/agenda/primera-panera-solidaria-de-sant-jordi.html
CLASS:PUBLIC
END:VEVENT
END:VCALENDAR
