BEGIN:VCALENDAR
VERSION:2.0
CALSCALE:GREGORIAN
PRODID:-//Diputació de Barcelona//DibaCMS//EN
BEGIN:VEVENT
UID:1760
DTSTAMP:20260424T100118
DTSTART:20211127T094500
DTEND:20211127T200000
SUMMARY:Actes previs Festa Major 2021
LOCATION:
METHOD:PUBLISH
X-WR-CALNAME:puigdalber@puigdalber.cat
X-WR-TIMEZONE:Europe/Madrid
DESCRIPTION:LA + ATLÈTICA

URI:https://www.puigdalber.cat/actualitat/agenda/actes-previs-festa-major-2021.html
CLASS:PUBLIC
END:VEVENT
END:VCALENDAR
