BEGIN:VCALENDAR
VERSION:2.0
CALSCALE:GREGORIAN
PRODID:-//Diputació de Barcelona//DibaCMS//EN
BEGIN:VEVENT
UID:1894
DTSTAMP:20260426T010210
DTSTART:20230226T100000
DTEND:20230226T130000
SUMMARY:Esmorzar popular
LOCATION:
METHOD:PUBLISH
X-WR-CALNAME:puigdalber@puigdalber.cat
X-WR-TIMEZONE:Europe/Madrid
DESCRIPTION:
URI:https://www.puigdalber.cat/actualitat/agenda/esmorzar-popular.html
CLASS:PUBLIC
END:VEVENT
END:VCALENDAR
