BEGIN:VCALENDAR
VERSION:2.0
CALSCALE:GREGORIAN
PRODID:-//Diputació de Barcelona//DibaCMS//EN
BEGIN:VEVENT
UID:1973
DTSTAMP:20260425T234535
DTSTART:20251031T173000
DTEND:20251031T235500
SUMMARY:Festa de Castaween  
LOCATION:
METHOD:PUBLISH
X-WR-CALNAME:puigdalber@puigdalber.cat
X-WR-TIMEZONE:Europe/Madrid
DESCRIPTION:
URI:https://www.puigdalber.cat/actualitat/agenda/festa-de-castaween-.html
CLASS:PUBLIC
END:VEVENT
END:VCALENDAR
