BEGIN:VCALENDAR
VERSION:2.0
CALSCALE:GREGORIAN
PRODID:-//Diputació de Barcelona//DibaCMS//EN
BEGIN:VEVENT
UID:1987
DTSTAMP:20260425T222956
DTSTART:20240107T110000
DTEND:20240107T210000
SUMMARY:Festa Sant Ramon 2024
LOCATION:
METHOD:PUBLISH
X-WR-CALNAME:puigdalber@puigdalber.cat
X-WR-TIMEZONE:Europe/Madrid
DESCRIPTION:
URI:https://www.puigdalber.cat/actualitat/agenda/festa-sant-ramon-2024.html
CLASS:PUBLIC
END:VEVENT
END:VCALENDAR
