BEGIN:VCALENDAR
VERSION:2.0
CALSCALE:GREGORIAN
PRODID:-//Diputació de Barcelona//DibaCMS//EN
BEGIN:VEVENT
UID:2039
DTSTAMP:20260426T010310
DTSTART:20251119T095000
DTEND:20251119T101000
SUMMARY:Caixer mòbil Diputació de Barcelona a Puigdàlber
LOCATION:
METHOD:PUBLISH
X-WR-CALNAME:puigdalber@puigdalber.cat
X-WR-TIMEZONE:Europe/Madrid
DESCRIPTION:Ubicació: Plaça de la Vila

URI:https://www.puigdalber.cat/actualitat/agenda/caixer-mobil-diputacio-de-barcelona-a-puigdalber.html
CLASS:PUBLIC
END:VEVENT
END:VCALENDAR
