BEGIN:VCALENDAR
VERSION:2.0
CALSCALE:GREGORIAN
PRODID:-//Diputació de Barcelona//DibaCMS//EN
BEGIN:VEVENT
UID:2040
DTSTAMP:20260426T012310
DTSTART:20240511T110000
DTEND:20240512T210000
SUMMARY:Festa Mare de Déu del Remei
LOCATION:
METHOD:PUBLISH
X-WR-CALNAME:puigdalber@puigdalber.cat
X-WR-TIMEZONE:Europe/Madrid
DESCRIPTION:
URI:https://www.puigdalber.cat/actualitat/agenda/festa-mare-de-deu-del-remei.html
CLASS:PUBLIC
END:VEVENT
END:VCALENDAR
