BEGIN:VCALENDAR
VERSION:2.0
CALSCALE:GREGORIAN
PRODID:-//Diputació de Barcelona//DibaCMS//EN
BEGIN:VEVENT
UID:2474
DTSTAMP:20260425T234553
DTSTART:20241023T160000
DTEND:20241023T170000
SUMMARY:Taller d'estimulació cognitiva a través del moviment i la música
LOCATION:
METHOD:PUBLISH
X-WR-CALNAME:puigdalber@puigdalber.cat
X-WR-TIMEZONE:Europe/Madrid
DESCRIPTION:
URI:https://www.puigdalber.cat/actualitat/agenda/2474-taller-destimulacio-cognitiva-a-traves-del-moviment-i-la-musica.html
CLASS:PUBLIC
END:VEVENT
END:VCALENDAR
