BEGIN:VCALENDAR
VERSION:2.0
CALSCALE:GREGORIAN
PRODID:-//Diputació de Barcelona//DibaCMS//EN
BEGIN:VEVENT
UID:2490
DTSTAMP:20260426T011340
DTSTART:20250411T180000
DTEND:20250411T210000
SUMMARY:Sortida al teatre - Mar i Cel (Dagoll Dagom)
LOCATION:
METHOD:PUBLISH
X-WR-CALNAME:puigdalber@puigdalber.cat
X-WR-TIMEZONE:Europe/Madrid
DESCRIPTION:
URI:https://www.puigdalber.cat/actualitat/agenda/sortida-al-teatre-mar-i-cel-dagoll-dagom.html
CLASS:PUBLIC
END:VEVENT
END:VCALENDAR
