BEGIN:VCALENDAR
VERSION:2.0
CALSCALE:GREGORIAN
PRODID:-//Diputació de Barcelona//DibaCMS//EN
BEGIN:VEVENT
UID:2495
DTSTAMP:20260425T204307
DTSTART:20251220T170000
DTEND:20260107T190000
SUMMARY:Festes de Nadal
LOCATION:
METHOD:PUBLISH
X-WR-CALNAME:puigdalber@puigdalber.cat
X-WR-TIMEZONE:Europe/Madrid
DESCRIPTION:
URI:https://www.puigdalber.cat/actualitat/agenda/festes-de-nadal.html
CLASS:PUBLIC
END:VEVENT
END:VCALENDAR
