BEGIN:VCALENDAR
VERSION:2.0
CALSCALE:GREGORIAN
PRODID:-//Diputació de Barcelona//DibaCMS//EN
BEGIN:VEVENT
UID:2527
DTSTAMP:20260425T234702
DTSTART:20250615T180000
DTEND:20250615T200000
SUMMARY:Teatre "DAVANT I DARRERE"
LOCATION:08797 Puigdàlber
METHOD:PUBLISH
X-WR-CALNAME:puigdalber@puigdalber.cat
X-WR-TIMEZONE:Europe/Madrid
DESCRIPTION:Sala Polivalent de Puigdàlber

Diumenge dia 15/06/2025 a les 18 hores

URI:https://www.puigdalber.cat/actualitat/agenda/teatre-davant-i-darrere.html
CLASS:PUBLIC
END:VEVENT
END:VCALENDAR
