BEGIN:VCALENDAR
VERSION:2.0
CALSCALE:GREGORIAN
PRODID:-//Diputació de Barcelona//DibaCMS//EN
BEGIN:VEVENT
UID:2541
DTSTAMP:20260426T010154
DTSTART:20250925T103000
DTEND:20250925T110000
SUMMARY:Sessió informativa sobre banca mòbil
LOCATION:
METHOD:PUBLISH
X-WR-CALNAME:puigdalber@puigdalber.cat
X-WR-TIMEZONE:Europe/Madrid
DESCRIPTION:
URI:https://www.puigdalber.cat/actualitat/agenda/sessio-informativa-sobre-banca-mobil.html
CLASS:PUBLIC
END:VEVENT
END:VCALENDAR
