BEGIN:VCALENDAR
VERSION:2.0
CALSCALE:GREGORIAN
PRODID:-//Diputació de Barcelona//DibaCMS//EN
BEGIN:VEVENT
UID:2550
DTSTAMP:20260425T234611
DTSTART:20251107T170000
DTEND:20251107T180000
SUMMARY:Hora del conte - Bibliobus Montau
LOCATION:
METHOD:PUBLISH
X-WR-CALNAME:puigdalber@puigdalber.cat
X-WR-TIMEZONE:Europe/Madrid
DESCRIPTION:
URI:https://www.puigdalber.cat/actualitat/agenda/hora-del-conte-bibliobus-montau.html
CLASS:PUBLIC
END:VEVENT
END:VCALENDAR
