BEGIN:VCALENDAR
VERSION:2.0
CALSCALE:GREGORIAN
PRODID:-//Diputació de Barcelona//DibaCMS//EN
BEGIN:VEVENT
UID:2563
DTSTAMP:20260425T233937
DTSTART:20260127T100000
DTEND:20260310T000000
SUMMARY:Curs de mòbils gratuït per a gent gran
LOCATION:
METHOD:PUBLISH
X-WR-CALNAME:puigdalber@puigdalber.cat
X-WR-TIMEZONE:Europe/Madrid
DESCRIPTION:El curs constarà de 7 sessions i es farà a l'auditori de l'Ajuntament

Els dimarts de 10 a 12 hores i s'iniciarà el dia 27 de gener

URI:https://www.puigdalber.cat/actualitat/agenda/curs-de-mobils-gratuit-per-a-gent-gran.html
CLASS:PUBLIC
END:VEVENT
END:VCALENDAR
