BEGIN:VCALENDAR
VERSION:2.0
CALSCALE:GREGORIAN
PRODID:-//Diputació de Barcelona//DibaCMS//EN
BEGIN:VEVENT
UID:2574
DTSTAMP:20260425T204824
DTSTART:20260304T000000
DTEND:20260308T230000
SUMMARY:8 de març - Dia de les dones treballadores
LOCATION:
METHOD:PUBLISH
X-WR-CALNAME:puigdalber@puigdalber.cat
X-WR-TIMEZONE:Europe/Madrid
DESCRIPTION:
URI:https://www.puigdalber.cat/actualitat/agenda/8-de-marc-dia-de-les-dones-treballadores.html
CLASS:PUBLIC
END:VEVENT
END:VCALENDAR
